BEGIN:VCALENDAR
VERSION:2.0
PRODID:-//northtownhousing.com//NONSGML kigkonsult.se iCalcreator 2.30.10//
CALSCALE:GREGORIAN
METHOD:PUBLISH
UID:9ce13ba0-57c5-40e5-9fc1-11bdbaae3b21
X-WR-CALDESC:
X-WR-RELCALID:cbd77057dff3c153dd1e09b6e07b504a
X-WR-TIMEZONE:America/Chicago
BEGIN:VTIMEZONE
TZID:America/Chicago
BEGIN:STANDARD
TZNAME:CST
DTSTART:20251102T020000
TZOFFSETFROM:-0500
TZOFFSETTO:-0600
RDATE:20261101T020000
END:STANDARD
BEGIN:DAYLIGHT
TZNAME:CDT
DTSTART:20260308T020000
TZOFFSETFROM:-0600
TZOFFSETTO:-0500
RDATE:20270314T020000
END:DAYLIGHT
END:VTIMEZONE
BEGIN:VEVENT
UID:bc7bcf07-7894-4e73-913e-3ad355718521
DTSTAMP:20260423T031541Z
DESCRIPTION:
DTSTART;TZID=America/Chicago:20260421T110000
DTEND;TZID=America/Chicago:20260421T130000
LOCATION:
SUMMARY:SENIOR LUNCH & LOTERIA
END:VEVENT
END:VCALENDAR
