BEGIN:VCALENDAR
VERSION:2.0
PRODID:-//northtownhousing.com//NONSGML kigkonsult.se iCalcreator 2.30.10//
CALSCALE:GREGORIAN
METHOD:PUBLISH
UID:05101e73-a579-4fe3-97a3-71405f3c62cc
X-WR-CALDESC:
X-WR-RELCALID:f21e4285f005f525d54f5c14aea97683
X-WR-TIMEZONE:America/Chicago
BEGIN:VTIMEZONE
TZID:America/Chicago
BEGIN:STANDARD
TZNAME:CST
DTSTART:20251102T020000
TZOFFSETFROM:-0500
TZOFFSETTO:-0600
RDATE:20261101T020000
END:STANDARD
BEGIN:DAYLIGHT
TZNAME:CDT
DTSTART:20260308T020000
TZOFFSETFROM:-0600
TZOFFSETTO:-0500
RDATE:20270314T020000
END:DAYLIGHT
END:VTIMEZONE
BEGIN:VEVENT
UID:972fe034-aceb-413a-a26b-98f2ccd6b206
DTSTAMP:20260423T045422Z
DESCRIPTION:
DTSTART;TZID=America/Chicago:20260414T110000
DTEND;TZID=America/Chicago:20260414T130000
LOCATION:
SUMMARY:SENIOR LUNCH & LOTERIA
END:VEVENT
END:VCALENDAR
