BEGIN:VCALENDAR
VERSION:2.0
PRODID:-//northtownhousing.com//NONSGML kigkonsult.se iCalcreator 2.30.10//
CALSCALE:GREGORIAN
METHOD:PUBLISH
UID:ef01cddb-3ea3-4c3c-a0b3-a2213561da62
X-WR-CALDESC:
X-WR-RELCALID:d12623aa7f72b97a88d8aad6e2414ad5
X-WR-TIMEZONE:America/Chicago
BEGIN:VTIMEZONE
TZID:America/Chicago
BEGIN:STANDARD
TZNAME:CST
DTSTART:20251102T020000
TZOFFSETFROM:-0500
TZOFFSETTO:-0600
RDATE:20261101T020000
END:STANDARD
BEGIN:DAYLIGHT
TZNAME:CDT
DTSTART:20260308T020000
TZOFFSETFROM:-0600
TZOFFSETTO:-0500
RDATE:20270314T020000
END:DAYLIGHT
END:VTIMEZONE
BEGIN:VEVENT
UID:f24aafe3-d9d6-4dc9-9262-e417a911f1ff
DTSTAMP:20260423T042756Z
DESCRIPTION:
DTSTART;TZID=America/Chicago:20260407T110000
DTEND;TZID=America/Chicago:20260407T130000
LOCATION:
SUMMARY:SENIOR LUNCH & LOTERIA
END:VEVENT
END:VCALENDAR
