BEGIN:VCALENDAR
VERSION:2.0
PRODID:-//northtownhousing.com//NONSGML kigkonsult.se iCalcreator 2.30.10//
CALSCALE:GREGORIAN
METHOD:PUBLISH
UID:410ca399-64ef-4956-ac86-d516f46ce7b3
X-WR-CALDESC:
X-WR-RELCALID:b9ede75712a38cf4d3bb80a58bf2d281
X-WR-TIMEZONE:America/Chicago
BEGIN:VTIMEZONE
TZID:America/Chicago
BEGIN:STANDARD
TZNAME:CST
DTSTART:20251102T020000
TZOFFSETFROM:-0500
TZOFFSETTO:-0600
RDATE:20261101T020000
END:STANDARD
BEGIN:DAYLIGHT
TZNAME:CDT
DTSTART:20260308T020000
TZOFFSETFROM:-0600
TZOFFSETTO:-0500
RDATE:20270314T020000
END:DAYLIGHT
END:VTIMEZONE
BEGIN:VEVENT
UID:3c87b995-599a-407e-a177-a4284e0181a0
DTSTAMP:20260423T045050Z
DESCRIPTION:
DTSTART;TZID=America/Chicago:20260331T110000
DTEND;TZID=America/Chicago:20260331T130000
LOCATION:
SUMMARY:SENIOR LUNCH & LOTERIA
END:VEVENT
END:VCALENDAR
