BEGIN:VCALENDAR
VERSION:2.0
PRODID:-//northtownhousing.com//NONSGML kigkonsult.se iCalcreator 2.30.10//
CALSCALE:GREGORIAN
METHOD:PUBLISH
UID:819a5243-3030-4c6a-a174-01d9c27d7fc5
X-WR-CALDESC:
X-WR-RELCALID:8b733340f20ea42743a555d9a27379fe
X-WR-TIMEZONE:America/Chicago
BEGIN:VTIMEZONE
TZID:America/Chicago
BEGIN:STANDARD
TZNAME:CST
DTSTART:20251102T020000
TZOFFSETFROM:-0500
TZOFFSETTO:-0600
RDATE:20261101T020000
END:STANDARD
BEGIN:DAYLIGHT
TZNAME:CDT
DTSTART:20260308T020000
TZOFFSETFROM:-0600
TZOFFSETTO:-0500
RDATE:20270314T020000
END:DAYLIGHT
END:VTIMEZONE
BEGIN:VEVENT
UID:dbd9851c-372d-44f1-abc1-8d15eab6fc22
DTSTAMP:20260423T044953Z
DESCRIPTION:
DTSTART;TZID=America/Chicago:20260317T110000
DTEND;TZID=America/Chicago:20260317T130000
LOCATION:
SUMMARY:SENIOR LUNCH & LOTERIA
END:VEVENT
END:VCALENDAR
